BEGIN:VCALENDAR
VERSION:2.0
PRODID:-//ChamberMaster//Event Calendar 2.0//EN
METHOD:PUBLISH
X-PUBLISHED-TTL:P3D
REFRESH-INTERVAL:P3D
CALSCALE:GREGORIAN
BEGIN:VEVENT
DTSTART:20260424T210000Z
DTEND:20260425T010000Z
X-MICROSOFT-CDO-ALLDAYEVENT:FALSE
SUMMARY:BBQ BINGO @ St Francis Xavier Parish
DESCRIPTION:Turn up the heat this spring at BBQ Bingo on Friday\, April 24 (doors open at 5 p.m.) in the St. Francis Xavier Parish Hall (cafeteria) in Petoskey. This adults-only event (18+\, 21+ to drink) is a fun twist on a local favorite\; win a round of Bingo and take home meat for the grill. Enjoy great food\, cold drinks\, and a lively community atmosphere.\n\nHosted by the St. Francis Xavier School PTO\, BBQ Bingo is a festive way to wrap up Parish Mission week while supporting a school where students perform above the national averages academically. Proceeds support bingo prizes and curriculum enhancements.\n\nThank you to our generous sponsors: Grace & Grill Champions   Northern Periodontics & Implant Dentistry\; Sizzling Supporters   Fry Integrative Orthodontics\; Holy Smokes Supporters   The Bliss and Ustes families\; Blessed BBQ Benefactors   the Holzschu\, LeQueir\, and Diedrich Families.
X-ALT-DESC;FMTTYPE=text/html:<p>Turn up the heat this spring at BBQ Bingo on Friday\, April 24 (doors open at 5 p.m.) in the St. Francis Xavier Parish Hall (cafeteria) in Petoskey. This adults-only event (18+\, 21+ to drink) is a fun twist on a local favorite\; win a round of Bingo and take home meat for the grill. Enjoy great food\, cold drinks\, and a lively community atmosphere.</p>\n\n<p>Hosted by the St. Francis Xavier School PTO\, BBQ Bingo is a festive way to wrap up Parish Mission week while supporting a school where students perform above the national averages academically. Proceeds support bingo prizes and curriculum enhancements.</p>\n\n<p>Thank you to our generous sponsors: Grace &amp\; Grill Champions &ndash\; <strong>Northern Periodontics &amp\; Implant Dentistry</strong>\; Sizzling Supporters &ndash\; <strong>Fry Integrative Orthodontics</strong>\; Holy Smokes Supporters &ndash\; <strong>The Bliss and Ustes families</strong>\; Blessed BBQ Benefactors &ndash\; <strong>the Holzschu\, LeQueir\, and Diedrich Families.</strong></p>\n
LOCATION:St. Francis Xavier Parish Hall\, 513 Howard St.\, Petoskey\, MI 49770
UID:e.1318.42564
SEQUENCE:3
DTSTAMP:20260424T174650Z
URL:http://business.petoskeychamber.com/events/details/bbq-bingo-st-francis-xavier-parish-42564
END:VEVENT

END:VCALENDAR
