BEGIN:VCALENDAR
VERSION:2.0
PRODID:-//ChamberMaster//Event Calendar 2.0//EN
METHOD:PUBLISH
X-PUBLISHED-TTL:P3D
REFRESH-INTERVAL:P3D
CALSCALE:GREGORIAN
BEGIN:VEVENT
DTSTART:20170228T140000Z
DTEND:20170228T160000Z
X-MICROSOFT-CDO-ALLDAYEVENT:FALSE
SUMMARY:Thrive 45 CEO Sit Down
DESCRIPTION:Join us at the Petoskey News Review for a light breakfast and opportunity to talk with News-Review Publisher Doug Caldwell and News-Review Editor Jeremy McBain on how local newspaper operates the editorial department\, and focus on refocusing news to new age groups and markets.\n\n\nStick around for a tour of the printing press and newsroom!\n\nAnyone with an interest in community news\, marketing and public relations professionals we welcome to attend. \n\n\n\nThis is limited to 20 people who register. Hope to see you there.
X-ALT-DESC;FMTTYPE=text/html:Join us at the <a href="http://www.petoskeynews.com/" target="_blank">Petoskey News Review</a> for a light breakfast and opportunity to talk with News-Review Publisher Doug Caldwell and News-Review Editor Jeremy McBain on how local newspaper operates the editorial department\, and focus on refocusing news to new age groups and markets.\n<div class="sqs-block html-block sqs-block-html" data-block-type="2" id="block-f190e6a2a945a10e17e8">\n<div class="sqs-block-content">\n<p>Stick around for a tour of the printing press and newsroom!</p>\n\n<p>Anyone with an interest in community news\, marketing and public relations professionals we welcome to attend.&nbsp\;</p>\n</div>\n</div>\n\n<p><span style="color:black\;"><span style="font-family:arial\,sans-serif\;"><span style="font-size:10.0pt\;">This is limited to 20 people who register.&nbsp\;Hope to see you there.</span></span></span></p>\n
LOCATION:Petoskey News Review
UID:e.1318.9533
SEQUENCE:3
DTSTAMP:20260423T214759Z
URL:http://business.petoskeychamber.com/events/details/thrive-45-ceo-sit-down-9533
END:VEVENT

END:VCALENDAR
