BEGIN:VCALENDAR
VERSION:2.0
PRODID:-//ChamberMaster//Event Calendar 2.0//EN
METHOD:PUBLISH
X-PUBLISHED-TTL:P3D
REFRESH-INTERVAL:P3D
CALSCALE:GREGORIAN
BEGIN:VEVENT
DTSTART:20260530T140000Z
DTEND:20260530T180000Z
X-MICROSOFT-CDO-ALLDAYEVENT:FALSE
SUMMARY:Join Mahj in the Mitten at Bay View Inn
DESCRIPTION:Join us for a fun and welcoming day of American Mahjong at Bay View Inn! Perfect for beginners and players looking to sharpen their skills.\n\n\n\nMahj 101 (Beginner): 10 AM   12 PM\n\nLearn the basics\, including tiles\, gameplay\, and rules.\n\nLunch Break: NOON   1 PM The Bay View Inn will be offering lunch service or you are welcome to explore other local spots!\n\nMahj 102 (Intermediate): 1   2 PM\n\nBuild on your skills with strategy tips and advanced play.\n\nCLICK HERE for tickets
X-ALT-DESC;FMTTYPE=text/html:<p><span style="color:#333333"><span style="font-family:arial\,sans-serif"><span style="font-size:10.5pt">Join us for a fun and welcoming day of American Mahjong at Bay View Inn! Perfect for beginners and players looking to sharpen their skills.<br />\n<br />\n<strong>Mahj 101 (Beginner):</strong>&nbsp\;10 AM &ndash\; 12 PM<br />\nLearn the basics\, including tiles\, gameplay\, and rules.<br />\n<strong>Lunch Break:</strong>&nbsp\;NOON &ndash\; 1 PM&nbsp\;</span></span></span><span style="color:#243649"><span style="font-family:arial\,sans-serif"><span style="font-size:10.5pt">The&nbsp\;Bay&nbsp\;View&nbsp\;Inn&nbsp\;will&nbsp\;be&nbsp\;offering&nbsp\;lunch&nbsp\;service&nbsp\;or&nbsp\;you&nbsp\;are&nbsp\;welcome&nbsp\;to&nbsp\;explore&nbsp\;other&nbsp\;local&nbsp\;spots!</span></span></span><br />\n<span style="color:#333333"><span style="font-family:arial\,sans-serif"><span style="font-size:10.5pt"><strong>Mahj 102 (Intermediate):</strong>&nbsp\;1 &ndash\; 2 PM<br />\nBuild on your skills with strategy tips and advanced play.</span></span></span></p>\n\n<p><span style="color:#333333"><span style="font-family:arial\,sans-serif"><span style="font-size:10.5pt"><a href="https://cottoncollection.ticketspice.com/mahjong-at-bay-view-inn"><span style="color:#0782C1">CLICK HERE</span></a>&nbsp\;for tickets</span></span></span></p>\n
LOCATION:Bay View Inn 2011 Woodand Avenue\, Petoskey\, MI
UID:e.1318.42485
SEQUENCE:3
DTSTAMP:20260421T213950Z
URL:https://business.petoskeychamber.com/events/details/join-mahj-in-the-mitten-at-bay-view-inn-42485
END:VEVENT

END:VCALENDAR
